BEGIN:VCALENDAR
VERSION:2.0
PRODID:-//Eventin//Event Calendar//EN
CALSCALE:GREGORIAN
METHOD:PUBLISH
BEGIN:VEVENT
UID:946e67d4970fa817a78a6e19e04e6b70@gl.grunliberale.ch
SUMMARY:3. Glp Neophyten Anlass Glarus Nord 2026
DESCRIPTION:
LOCATION:Glarus Nord
DTSTAMP:20260419T164815Z
DTSTART:20260926T060000Z
DTEND:20260926T100000Z
END:VEVENT
END:VCALENDAR
