BEGIN:VCALENDAR
VERSION:2.0
PRODID:-//Eventin//Event Calendar//EN
CALSCALE:GREGORIAN
METHOD:PUBLISH
BEGIN:VEVENT
UID:23afdecd00af34c39689ccd4ad302276@gl.grunliberale.ch
SUMMARY:2. Glp Neophyten Anlass Glarus Süd 2026
DESCRIPTION:
LOCATION:Glarus Süd
DTSTAMP:20260419T164805Z
DTSTART:20260815T060000Z
DTEND:20260815T100000Z
END:VEVENT
END:VCALENDAR
