BEGIN:VCALENDAR
VERSION:2.0
PRODID:-//Eventin//Event Calendar//EN
CALSCALE:GREGORIAN
METHOD:PUBLISH
BEGIN:VEVENT
UID:e8fc5410bf765048dc32bd1e7a4c211c@gl.grunliberale.ch
SUMMARY:1. Glp Neophyten Anlass Glarus Süd 2026
DESCRIPTION:
LOCATION:Glarus Süd
DTSTAMP:20260419T164855Z
DTSTART:20260613T060000Z
DTEND:20260613T100000Z
END:VEVENT
END:VCALENDAR
