BEGIN:VCALENDAR
VERSION:2.0
PRODID:-//Eventin//Event Calendar//EN
CALSCALE:GREGORIAN
METHOD:PUBLISH
BEGIN:VEVENT
UID:d0d6f27839f519686f1ecb61fa5c42e0@gl.grunliberale.ch
SUMMARY:1. Gemeindeversammlung Glarus Süd 2026
DESCRIPTION:
LOCATION:Gemeindezentrum Schwanden
DTSTAMP:20260419T175232Z
DTSTART:20260618T180000Z
DTEND:20260618T200000Z
END:VEVENT
END:VCALENDAR
