BEGIN:VCALENDAR
VERSION:2.0
PRODID:-//Eventin//Event Calendar//EN
CALSCALE:GREGORIAN
METHOD:PUBLISH
BEGIN:VEVENT
UID:9610f9166cb1d47ab9dec5510d359314@gl.grunliberale.ch
SUMMARY:Högg 1. Gemeindeversammlung Glarus Süd
DESCRIPTION:
LOCATION:Ort folgt
DTSTAMP:20260420T003025Z
DTSTART:20260611T170000Z
DTEND:20260611T190000Z
END:VEVENT
END:VCALENDAR
