BEGIN:VCALENDAR
VERSION:2.0
PRODID:-//Eventin//Event Calendar//EN
CALSCALE:GREGORIAN
METHOD:PUBLISH
BEGIN:VEVENT
UID:5bfb81135f8f9d4049819dd9517e3734@gl.grunliberale.ch
SUMMARY:Högg 1. Gemeindeversammlung Glarus (Mitte)
DESCRIPTION:
LOCATION:Ort folgt
DTSTAMP:20260419T193534Z
DTSTART:20260526T173000Z
DTEND:20260526T190000Z
END:VEVENT
END:VCALENDAR
