BEGIN:VCALENDAR
VERSION:2.0
PRODID:-//Eventin//Event Calendar//EN
CALSCALE:GREGORIAN
METHOD:PUBLISH
BEGIN:VEVENT
UID:f402bae5440afa2d7babbbb739138716@gl.grunliberale.ch
SUMMARY:Högg 1. Gemeindeversammlung Glarus Nord
DESCRIPTION:
LOCATION:Ort folgt
DTSTAMP:20260419T175241Z
DTSTART:20260526T173000Z
DTEND:20260526T190000Z
END:VEVENT
END:VCALENDAR
