BEGIN:VCALENDAR
VERSION:2.0
PRODID:-//Eventin//Event Calendar//EN
CALSCALE:GREGORIAN
METHOD:PUBLISH
BEGIN:VEVENT
UID:f0d9f56d22543c33461bb6890b193c1e@gl.grunliberale.ch
SUMMARY:1. Gemeindeversammlung Glarus (Mitte) 2026
DESCRIPTION:
LOCATION:Turnhalle Buchholz\, Glarus
DTSTAMP:20260419T193554Z
DTSTART:20260605T173000Z
DTEND:20260605T190000Z
END:VEVENT
END:VCALENDAR
