BEGIN:VCALENDAR
VERSION:2.0
PRODID:-//Eventin//Event Calendar//EN
CALSCALE:GREGORIAN
METHOD:PUBLISH
BEGIN:VEVENT
UID:a185a479c500b6b8ed61390e44e4adbf@gl.grunliberale.ch
SUMMARY:1. Gemeindeversammlung GL Nord 2026
DESCRIPTION:
LOCATION:Lintharena\, Näfels
DTSTAMP:20260419T175302Z
DTSTART:20260622T173000Z
DTEND:20260622T190000Z
END:VEVENT
END:VCALENDAR
