BEGIN:VCALENDAR
VERSION:2.0
PRODID:-//Eventin//Event Calendar//EN
CALSCALE:GREGORIAN
METHOD:PUBLISH
BEGIN:VEVENT
UID:45112cdc8a242fe43b93b6a066b30f8a@gl.grunliberale.ch
SUMMARY:Landsgemeinde 2026
DESCRIPTION:
LOCATION:Zaunplatz\, Glarus 
DTSTAMP:20260419T193544Z
DTSTART:20260503T080000Z
DTEND:20260503T120000Z
END:VEVENT
END:VCALENDAR
