BEGIN:VCALENDAR
VERSION:2.0
PRODID:-//Eventin//Event Calendar//EN
CALSCALE:GREGORIAN
METHOD:PUBLISH
BEGIN:VEVENT
UID:0be544ac1291ecbeeadb60640efe620a@gl.grunliberale.ch
SUMMARY:Landsgemeinde Flohmarkt
DESCRIPTION:
LOCATION:Strassenmarkt in Glarus
DTSTAMP:20260419T193455Z
DTSTART:20260502T060000Z
DTEND:20260502T140000Z
END:VEVENT
END:VCALENDAR
